BEGIN:VCALENDAR
VERSION:2.0
PRODID:-//wp-events-plugin.com//7.2.3.1//EN
TZID:America/New_York
X-WR-TIMEZONE:America/New_York
BEGIN:VEVENT
UID:2509@beaconplayers.com
DTSTART;TZID=America/New_York:20250515T180000
DTEND;TZID=America/New_York:20250515T210000
DTSTAMP:20250512T142835Z
URL:https://beaconplayers.com/events/2025-fall-spring-show-suggestions/
SUMMARY:2025 Fall & Spring Show Suggestions
DESCRIPTION:Imortant meeting - Show selections for next season being presen
 ted... A decision is very close to being announced based upon what you wil
 l hear at this meeting.... Important information regarding rehearsals and 
 schedules for the next season as well\nALL MEMEBERS INVITED\n
CATEGORIES:Special Events
END:VEVENT
BEGIN:VTIMEZONE
TZID:America/New_York
X-LIC-LOCATION:America/New_York
BEGIN:DAYLIGHT
DTSTART:20250309T030000
TZOFFSETFROM:-0500
TZOFFSETTO:-0400
TZNAME:EDT
END:DAYLIGHT
END:VTIMEZONE
END:VCALENDAR