BEGIN:VCALENDAR
VERSION:2.0
PRODID:-//wp-events-plugin.com//7.2.3.1//EN
TZID:America/New_York
X-WR-TIMEZONE:America/New_York
BEGIN:VEVENT
UID:219@beaconplayers.com
DTSTART;TZID=America/New_York:20191011T080000
DTEND;TZID=America/New_York:20191011T210000
DTSTAMP:20191006T151012Z
URL:https://beaconplayers.com/events/80s-day-wear-your-80s-best/
SUMMARY:80's DAY- WEAR YOUR 80'S BEST!
DESCRIPTION:PHOTO SHOOT AND MUCH MORE - CAST AND CREW\n\n
CATEGORIES:Major Events
END:VEVENT
BEGIN:VTIMEZONE
TZID:America/New_York
X-LIC-LOCATION:America/New_York
BEGIN:DAYLIGHT
DTSTART:20190310T030000
TZOFFSETFROM:-0500
TZOFFSETTO:-0400
TZNAME:EDT
END:DAYLIGHT
END:VTIMEZONE
END:VCALENDAR