BEGIN:VCALENDAR
VERSION:2.0
PRODID:-//wp-events-plugin.com//7.2.3.1//EN
TZID:America/New_York
X-WR-TIMEZONE:America/New_York
BEGIN:VEVENT
UID:2533@beaconplayers.com
DTSTART;TZID=America/New_York:20250924T183000
DTEND;TZID=America/New_York:20250924T203000
DTSTAMP:20250920T211413Z
URL:https://beaconplayers.com/events/art-crew-382/
SUMMARY:Art Crew
DESCRIPTION:Current and New Members - Meet in the Theater
CATEGORIES:Art Crew
END:VEVENT
BEGIN:VTIMEZONE
TZID:America/New_York
X-LIC-LOCATION:America/New_York
BEGIN:DAYLIGHT
DTSTART:20250309T030000
TZOFFSETFROM:-0500
TZOFFSETTO:-0400
TZNAME:EDT
END:DAYLIGHT
END:VTIMEZONE
END:VCALENDAR