BEGIN:VCALENDAR
VERSION:2.0
PRODID:-//wp-events-plugin.com//7.2.3.1//EN
TZID:America/New_York
X-WR-TIMEZONE:America/New_York
BEGIN:VEVENT
UID:2530@beaconplayers.com
DTSTART;TZID=America/New_York:20250917T183000
DTEND;TZID=America/New_York:20250917T203000
DTSTAMP:20250916T125817Z
URL:https://beaconplayers.com/events/art-crew-meeting/
SUMMARY:ART CREW Meeting
DESCRIPTION:All Current and New Members should attend
CATEGORIES:Art Crew
END:VEVENT
BEGIN:VTIMEZONE
TZID:America/New_York
X-LIC-LOCATION:America/New_York
BEGIN:DAYLIGHT
DTSTART:20250309T030000
TZOFFSETFROM:-0500
TZOFFSETTO:-0400
TZNAME:EDT
END:DAYLIGHT
END:VTIMEZONE
END:VCALENDAR