BEGIN:VCALENDAR
VERSION:2.0
PRODID:-//wp-events-plugin.com//7.2.3.1//EN
TZID:America/New_York
X-WR-TIMEZONE:America/New_York
BEGIN:VEVENT
UID:2523@beaconplayers.com
DTSTART;TZID=America/New_York:20251007T180000
DTEND;TZID=America/New_York:20251007T190000
DTSTAMP:20250903T165049Z
URL:https://beaconplayers.com/events/beacon-players-present-improv-little-
 women-preview/
SUMMARY:Beacon Players Present:  Little Women Preview
DESCRIPTION:\n\nAll Cast Members and Sound Crew Needed\nHowland Library\n\n
 Get a sneak peek of Little Women with the Beacon Players! In costume and
  in character\, the cast will perform interactive improv scenes from the u
 pcoming musical\, including some beautiful music\, premiering this Novembe
 r at the Pete Seeger Theater\, at Beacon High School. Audience members wil
 l have the chance to engage with the actors and enter a raffle to win free
  tickets to the full production.\n
CATEGORIES:Beacon Players
END:VEVENT
BEGIN:VTIMEZONE
TZID:America/New_York
X-LIC-LOCATION:America/New_York
BEGIN:DAYLIGHT
DTSTART:20250309T030000
TZOFFSETFROM:-0500
TZOFFSETTO:-0400
TZNAME:EDT
END:DAYLIGHT
END:VTIMEZONE
END:VCALENDAR