BEGIN:VCALENDAR
VERSION:2.0
PRODID:-//wp-events-plugin.com//7.2.3.1//EN
TZID:America/New_York
X-WR-TIMEZONE:America/New_York
BEGIN:VEVENT
UID:2519@beaconplayers.com
DTSTART;TZID=America/New_York:20250903T070000
DTEND;TZID=America/New_York:20250905T133000
DTSTAMP:20250620T175959Z
URL:https://beaconplayers.com/events/beacon-players-recruitment-days/
SUMMARY:BEACON PLAYERS RECRUITMENT DAYS
DESCRIPTION:Special Days Set Aside For Recruiting...Details To Be Discussed
CATEGORIES:Major Events
END:VEVENT
BEGIN:VTIMEZONE
TZID:America/New_York
X-LIC-LOCATION:America/New_York
BEGIN:DAYLIGHT
DTSTART:20250309T030000
TZOFFSETFROM:-0500
TZOFFSETTO:-0400
TZNAME:EDT
END:DAYLIGHT
END:VTIMEZONE
END:VCALENDAR