BEGIN:VCALENDAR
VERSION:2.0
PRODID:-//wp-events-plugin.com//7.2.3.1//EN
TZID:America/New_York
X-WR-TIMEZONE:America/New_York
BEGIN:VEVENT
UID:27@beaconplayers.com
DTSTART;TZID=America/New_York:20190829T180000
DTEND;TZID=America/New_York:20190829T210000
DTSTAMP:20190828T132229Z
URL:https://beaconplayers.com/events/beacon-players-team-2019-meeting-600-
 900-8-29/
SUMMARY:Beacon Players Team 2019 Meeting 6:00 -9:00 - 8/29
DESCRIPTION:Discussion of upcoming Events &amp\; Coverage &amp\; Needs\n\nM
 eet the Members Prep\n\nAudition Prep\n\nTheater Day  etc.
CATEGORIES:Beacon Players
END:VEVENT
BEGIN:VTIMEZONE
TZID:America/New_York
X-LIC-LOCATION:America/New_York
BEGIN:DAYLIGHT
DTSTART:20190310T030000
TZOFFSETFROM:-0500
TZOFFSETTO:-0400
TZNAME:EDT
END:DAYLIGHT
END:VTIMEZONE
END:VCALENDAR