BEGIN:VCALENDAR
VERSION:2.0
PRODID:-//wp-events-plugin.com//7.2.3.1//EN
TZID:America/New_York
X-WR-TIMEZONE:America/New_York
BEGIN:VEVENT
UID:2651@beaconplayers.com
DTSTART;TZID=America/New_York:20251101T084500
DTEND;TZID=America/New_York:20251101T121500
DTSTAMP:20251027T160858Z
URL:https://beaconplayers.com/events/costume-crew-216/
SUMMARY:Costume crew
DESCRIPTION:ensemble dress
CATEGORIES:Costume Crew
END:VEVENT
BEGIN:VTIMEZONE
TZID:America/New_York
X-LIC-LOCATION:America/New_York
BEGIN:DAYLIGHT
DTSTART:20250309T030000
TZOFFSETFROM:-0500
TZOFFSETTO:-0400
TZNAME:EDT
END:DAYLIGHT
END:VTIMEZONE
END:VCALENDAR