BEGIN:VCALENDAR
VERSION:2.0
PRODID:-//wp-events-plugin.com//7.2.3.1//EN
TZID:America/New_York
X-WR-TIMEZONE:America/New_York
BEGIN:VEVENT
UID:2694@beaconplayers.com
DTSTART;TZID=America/New_York:20260203T180000
DTEND;TZID=America/New_York:20260203T203000
DTSTAMP:20260201T230510Z
URL:https://beaconplayers.com/events/costume-crew-222/
SUMMARY:Costume crew
DESCRIPTION:All current and new members...View and inventory costumes and c
 ostume room…. Review calendar\, show and more
CATEGORIES:Costume Crew
END:VEVENT
BEGIN:VTIMEZONE
TZID:America/New_York
X-LIC-LOCATION:America/New_York
BEGIN:STANDARD
DTSTART:20251102T010000
TZOFFSETFROM:-0400
TZOFFSETTO:-0500
TZNAME:EST
END:STANDARD
END:VTIMEZONE
END:VCALENDAR