BEGIN:VCALENDAR
VERSION:2.0
PRODID:-//wp-events-plugin.com//7.2.3.1//EN
TZID:America/New_York
X-WR-TIMEZONE:America/New_York
BEGIN:VEVENT
UID:181@beaconplayers.com
DTSTART;TZID=America/New_York:20191109T090000
DTEND;TZID=America/New_York:20191109T150000
DTSTAMP:20191103T161659Z
URL:https://beaconplayers.com/events/costume-dress-rehearsal/
SUMMARY:Costume Dress Rehearsal
DESCRIPTION:Mandatory Attendance - All Cast &amp\; Crews
CATEGORIES:Rehearsal
END:VEVENT
BEGIN:VTIMEZONE
TZID:America/New_York
X-LIC-LOCATION:America/New_York
BEGIN:STANDARD
DTSTART:20191103T010000
TZOFFSETFROM:-0400
TZOFFSETTO:-0500
TZNAME:EST
END:STANDARD
END:VTIMEZONE
END:VCALENDAR