BEGIN:VCALENDAR
VERSION:2.0
PRODID:-//wp-events-plugin.com//7.2.3.1//EN
TZID:America/New_York
X-WR-TIMEZONE:America/New_York
BEGIN:VEVENT
UID:2652@beaconplayers.com
DTSTART;TZID=America/New_York:20251104T180000
DTEND;TZID=America/New_York:20251104T204500
DTSTAMP:20251102T001458Z
URL:https://beaconplayers.com/events/costume-fittings-3/
SUMMARY:Costume Fittings
DESCRIPTION:Costume Fitting:\nCalled :\nJim\, Beth\, Amy\, Meg\, Aunt March
  -you will be able to leave upon completion of your fittings\, many of you
  have several costume changes. Please bring your shoes...
CATEGORIES:Rehearsal
END:VEVENT
BEGIN:VTIMEZONE
TZID:America/New_York
X-LIC-LOCATION:America/New_York
BEGIN:STANDARD
DTSTART:20251102T010000
TZOFFSETFROM:-0400
TZOFFSETTO:-0500
TZNAME:EST
END:STANDARD
END:VTIMEZONE
END:VCALENDAR