BEGIN:VCALENDAR
VERSION:2.0
PRODID:-//wp-events-plugin.com//7.2.3.1//EN
TZID:America/New_York
X-WR-TIMEZONE:America/New_York
BEGIN:VEVENT
UID:2502@beaconplayers.com
DTSTART;TZID=America/New_York:20250423T150000
DTEND;TZID=America/New_York:20250423T220000
DTSTAMP:20250423T031245Z
URL:https://beaconplayers.com/events/dress-rehearsal-2/
SUMMARY:Dress Rehearsal
DESCRIPTION:All Stage/Set/Running Crews  - 3:00\nAll Cast - 4:00\nCostume 
 &amp\; Art - Check with your Advisors\nDownbeat - 6:00
CATEGORIES:Rehearsal
END:VEVENT
BEGIN:VTIMEZONE
TZID:America/New_York
X-LIC-LOCATION:America/New_York
BEGIN:DAYLIGHT
DTSTART:20250309T030000
TZOFFSETFROM:-0500
TZOFFSETTO:-0400
TZNAME:EDT
END:DAYLIGHT
END:VTIMEZONE
END:VCALENDAR