BEGIN:VCALENDAR
VERSION:2.0
PRODID:-//wp-events-plugin.com//7.2.3.1//EN
TZID:America/New_York
X-WR-TIMEZONE:America/New_York
BEGIN:VEVENT
UID:2655@beaconplayers.com
DTSTART;TZID=America/New_York:20251108T090000
DTEND;TZID=America/New_York:20251108T133000
DTSTAMP:20251102T005621Z
URL:https://beaconplayers.com/events/full-costume-run-through-rehearsal/
SUMMARY:Full Costume Run Through Rehearsal
DESCRIPTION:Rehearsal\nCalled - Entire Cast &amp\; Running Crew\, Stage Man
 agers\, Sound\, Costume
CATEGORIES:Rehearsal
END:VEVENT
BEGIN:VTIMEZONE
TZID:America/New_York
X-LIC-LOCATION:America/New_York
BEGIN:STANDARD
DTSTART:20251102T010000
TZOFFSETFROM:-0400
TZOFFSETTO:-0500
TZNAME:EST
END:STANDARD
END:VTIMEZONE
END:VCALENDAR