BEGIN:VCALENDAR
VERSION:2.0
PRODID:-//wp-events-plugin.com//7.2.3.1//EN
TZID:America/New_York
X-WR-TIMEZONE:America/New_York
BEGIN:VEVENT
UID:2428@beaconplayers.com
DTSTART;TZID=America/New_York:20250314T150000
DTEND;TZID=America/New_York:20250314T210000
DTSTAMP:20250310T031538Z
URL:https://beaconplayers.com/events/gd-rehearsal-26/
SUMMARY:G&D Rehearsal
DESCRIPTION:3:00 - 9:00 - Theater -\nCalled\nEntire Cast\nDinner Break at 5
 :00
CATEGORIES:Rehearsal
END:VEVENT
BEGIN:VTIMEZONE
TZID:America/New_York
X-LIC-LOCATION:America/New_York
BEGIN:DAYLIGHT
DTSTART:20250309T030000
TZOFFSETFROM:-0500
TZOFFSETTO:-0400
TZNAME:EDT
END:DAYLIGHT
END:VTIMEZONE
END:VCALENDAR