BEGIN:VCALENDAR
VERSION:2.0
PRODID:-//wp-events-plugin.com//7.2.3.1//EN
TZID:America/New_York
X-WR-TIMEZONE:America/New_York
BEGIN:VEVENT
UID:2429@beaconplayers.com
DTSTART;TZID=America/New_York:20250310T183000
DTEND;TZID=America/New_York:20250310T203000
DTSTAMP:20250310T033842Z
URL:https://beaconplayers.com/events/gd-rehearsal-27/
SUMMARY:G&D Rehearsal
DESCRIPTION:6:30-8:30 - Theater\nCalled:\nCrapshooters\, Sarah\, Sky\, Adel
 aide\, Hot Box Dancers\, Nathan\, Brannigan\, Big Jule
CATEGORIES:Rehearsal
END:VEVENT
BEGIN:VTIMEZONE
TZID:America/New_York
X-LIC-LOCATION:America/New_York
BEGIN:DAYLIGHT
DTSTART:20250309T030000
TZOFFSETFROM:-0500
TZOFFSETTO:-0400
TZNAME:EDT
END:DAYLIGHT
END:VTIMEZONE
END:VCALENDAR