BEGIN:VCALENDAR
VERSION:2.0
PRODID:-//wp-events-plugin.com//7.2.3.1//EN
TZID:America/New_York
X-WR-TIMEZONE:America/New_York
BEGIN:VEVENT
UID:2431@beaconplayers.com
DTSTART;TZID=America/New_York:20250312T183000
DTEND;TZID=America/New_York:20250312T203000
DTSTAMP:20250310T040656Z
URL:https://beaconplayers.com/events/gd-rehearsal-29/
SUMMARY:G&D Rehearsal
DESCRIPTION:6:30-7:30 - Vocal Rehearsal - Chorus Rooom -\nCalled:\nHot Box 
 Dancers 7:30-8:30 - Theater\nCalled:\nHot Box Dancers\n6:30 -8:30 - LGI\nC
 alled:\nSky\, Sarah
CATEGORIES:Rehearsal
END:VEVENT
BEGIN:VTIMEZONE
TZID:America/New_York
X-LIC-LOCATION:America/New_York
BEGIN:DAYLIGHT
DTSTART:20250309T030000
TZOFFSETFROM:-0500
TZOFFSETTO:-0400
TZNAME:EDT
END:DAYLIGHT
END:VTIMEZONE
END:VCALENDAR