BEGIN:VCALENDAR
VERSION:2.0
PRODID:-//wp-events-plugin.com//7.2.3.1//EN
TZID:America/New_York
X-WR-TIMEZONE:America/New_York
BEGIN:VEVENT
UID:2439@beaconplayers.com
DTSTART;TZID=America/New_York:20250319T183000
DTEND;TZID=America/New_York:20250319T203000
DTSTAMP:20250316T163915Z
URL:https://beaconplayers.com/events/gd-rehearsal-33/
SUMMARY:G&D Rehearsal
DESCRIPTION:6:30-8:30 - Havana (Theater)\nCalled:\nAll Havana Dancers\n6:30
  - 8:30 - LGI\nCalled:\nEntire Cast - Minus Havana
CATEGORIES:Rehearsal
END:VEVENT
BEGIN:VTIMEZONE
TZID:America/New_York
X-LIC-LOCATION:America/New_York
BEGIN:DAYLIGHT
DTSTART:20250309T030000
TZOFFSETFROM:-0500
TZOFFSETTO:-0400
TZNAME:EDT
END:DAYLIGHT
END:VTIMEZONE
END:VCALENDAR