BEGIN:VCALENDAR
VERSION:2.0
PRODID:-//wp-events-plugin.com//7.2.3.1//EN
TZID:America/New_York
X-WR-TIMEZONE:America/New_York
BEGIN:VEVENT
UID:2453@beaconplayers.com
DTSTART;TZID=America/New_York:20250325T181500
DTEND;TZID=America/New_York:20250325T203000
DTSTAMP:20250323T221128Z
URL:https://beaconplayers.com/events/gd-rehearsal-35/
SUMMARY:G&D Rehearsal
DESCRIPTION:6:15 - 8:30 - Theater\nCalled:\nEntire Cast -\n\n**Stage Manage
 rs\, Sound &amp\; Lighting Please arrive at 6:00 for set up. Mics for Sky-
 Sarah-Nathan-Adelaide-Benny-Harry-Ev\n
CATEGORIES:Rehearsal
END:VEVENT
BEGIN:VTIMEZONE
TZID:America/New_York
X-LIC-LOCATION:America/New_York
BEGIN:DAYLIGHT
DTSTART:20250309T030000
TZOFFSETFROM:-0500
TZOFFSETTO:-0400
TZNAME:EDT
END:DAYLIGHT
END:VTIMEZONE
END:VCALENDAR