BEGIN:VCALENDAR
VERSION:2.0
PRODID:-//wp-events-plugin.com//7.2.3.1//EN
TZID:America/New_York
X-WR-TIMEZONE:America/New_York
BEGIN:VEVENT
UID:2466@beaconplayers.com
DTSTART;TZID=America/New_York:20250404T143000
DTEND;TZID=America/New_York:20250404T210000
DTSTAMP:20250331T163211Z
URL:https://beaconplayers.com/events/gd-rehearsal-36/
SUMMARY:G&D Rehearsal
DESCRIPTION:*2:30 - 9:00 Full Run - Theater\nCalled:\nEntire Cast\nMics nee
 ded  for :\nSky\, Nathan\, Adelaide\, Sarah\, Benny\, Nicely\, Rusty Char
 lie\n*Note-New Time\nCostume Crew- Prep for Costumes for Saturday\n
CATEGORIES:Rehearsal
END:VEVENT
BEGIN:VTIMEZONE
TZID:America/New_York
X-LIC-LOCATION:America/New_York
BEGIN:DAYLIGHT
DTSTART:20250309T030000
TZOFFSETFROM:-0500
TZOFFSETTO:-0400
TZNAME:EDT
END:DAYLIGHT
END:VTIMEZONE
END:VCALENDAR