BEGIN:VCALENDAR
VERSION:2.0
PRODID:-//wp-events-plugin.com//7.2.3.1//EN
TZID:America/New_York
X-WR-TIMEZONE:America/New_York
BEGIN:VEVENT
UID:2465@beaconplayers.com
DTSTART;TZID=America/New_York:20250401T180000
DTEND;TZID=America/New_York:20250402T203000
DTSTAMP:20250331T161444Z
URL:https://beaconplayers.com/events/gd-rehearsal-37/
SUMMARY:G&D Rehearsal
DESCRIPTION:*6:00 - 8:30 Full Run Through - Theater\nCalled:\nEntire Cast\n
 Mics needed  for :\nSky\, Nathan\, Adelaide\, Sarah\, Benny\, Nicely\, Ru
 sty Charlie\n*Note-New Time
CATEGORIES:Rehearsal
END:VEVENT
BEGIN:VTIMEZONE
TZID:America/New_York
X-LIC-LOCATION:America/New_York
BEGIN:DAYLIGHT
DTSTART:20250309T030000
TZOFFSETFROM:-0500
TZOFFSETTO:-0400
TZNAME:EDT
END:DAYLIGHT
END:VTIMEZONE
END:VCALENDAR