BEGIN:VCALENDAR
VERSION:2.0
PRODID:-//wp-events-plugin.com//7.2.3.1//EN
TZID:America/New_York
X-WR-TIMEZONE:America/New_York
BEGIN:VEVENT
UID:2476@beaconplayers.com
DTSTART;TZID=America/New_York:20250407T180000
DTEND;TZID=America/New_York:20250409T210000
DTSTAMP:20250407T132339Z
URL:https://beaconplayers.com/events/gd-rehearsal-39/
SUMMARY:G&D Rehearsal TIME CHANGE
DESCRIPTION:Full Runs -NO EXCEPTIONS  Theater\nCalled:\nEntire Cast -  St
 age Managers-Sound \, Lighting and Running Crews
CATEGORIES:Rehearsal
END:VEVENT
BEGIN:VTIMEZONE
TZID:America/New_York
X-LIC-LOCATION:America/New_York
BEGIN:DAYLIGHT
DTSTART:20250309T030000
TZOFFSETFROM:-0500
TZOFFSETTO:-0400
TZNAME:EDT
END:DAYLIGHT
END:VTIMEZONE
END:VCALENDAR