BEGIN:VCALENDAR
VERSION:2.0
PRODID:-//wp-events-plugin.com//7.2.3.1//EN
TZID:America/New_York
X-WR-TIMEZONE:America/New_York
BEGIN:VEVENT
UID:2507@beaconplayers.com
DTSTART;TZID=America/New_York:20250911T190000
DTEND;TZID=America/New_York:20250911T213000
DTSTAMP:20250826T183456Z
URL:https://beaconplayers.com/events/general-meeting-meet-the-members-open
 -house/
SUMMARY:Family Open House - Parent Meeting -  Meet the Members - Open House
DESCRIPTION:\nAll Members &amp\; Parents - Current and New Members\nCome an
 d see what we are all about\, Cast &amp\; Crew - 7:00-8:30\n&nbsp\;\n\n&nb
 sp\;
CATEGORIES:Special Events
END:VEVENT
BEGIN:VTIMEZONE
TZID:America/New_York
X-LIC-LOCATION:America/New_York
BEGIN:DAYLIGHT
DTSTART:20250309T030000
TZOFFSETFROM:-0500
TZOFFSETTO:-0400
TZNAME:EDT
END:DAYLIGHT
END:VTIMEZONE
END:VCALENDAR