BEGIN:VCALENDAR
VERSION:2.0
PRODID:-//wp-events-plugin.com//7.2.3.1//EN
TZID:America/New_York
X-WR-TIMEZONE:America/New_York
BEGIN:VEVENT
UID:206@beaconplayers.com
DTSTART;TZID=America/New_York;VALUE=DATE:20191031
DTEND;TZID=America/New_York;VALUE=DATE:20191101
DTSTAMP:20191003T183636Z
URL:https://beaconplayers.com/events/halloweeen/
SUMMARY:Halloweeen!
DESCRIPTION:
CATEGORIES:Holidays
END:VEVENT
BEGIN:VTIMEZONE
TZID:America/New_York
X-LIC-LOCATION:America/New_York
BEGIN:DAYLIGHT
DTSTART:20190310T030000
TZOFFSETFROM:-0500
TZOFFSETTO:-0400
TZNAME:EDT
END:DAYLIGHT
END:VTIMEZONE
END:VCALENDAR