BEGIN:VCALENDAR
VERSION:2.0
PRODID:-//wp-events-plugin.com//7.2.3.1//EN
TZID:America/New_York
X-WR-TIMEZONE:America/New_York
BEGIN:VEVENT
UID:2514@beaconplayers.com
DTSTART;TZID=America/New_York:20250906T100000
DTEND;TZID=America/New_York:20250906T130000
DTSTAMP:20250904T190246Z
URL:https://beaconplayers.com/events/little-women-audition-call-backs/
SUMMARY:Little Women Workshop
DESCRIPTION:These are the time slots for the Workshops\, You are welcome to
  attend any slot that you would like  for  further audition information.
 \n10:00-11:00 - Everyone Auditioning\n11:00-1:00 - Jo\, Meg\, Beth\, Amy\,
  Marmee\, Aunt March\n Professor Bhaer\, Laurie\, Mr. Brooke\, Mr. Lauren
 ce
CATEGORIES:Major Events
END:VEVENT
BEGIN:VTIMEZONE
TZID:America/New_York
X-LIC-LOCATION:America/New_York
BEGIN:DAYLIGHT
DTSTART:20250309T030000
TZOFFSETFROM:-0500
TZOFFSETTO:-0400
TZNAME:EDT
END:DAYLIGHT
END:VTIMEZONE
END:VCALENDAR