BEGIN:VCALENDAR
VERSION:2.0
PRODID:-//wp-events-plugin.com//7.2.3.1//EN
TZID:America/New_York
X-WR-TIMEZONE:America/New_York
BEGIN:VEVENT
UID:2525@beaconplayers.com
DTSTART;TZID=America/New_York:20250915T180000
DTEND;TZID=America/New_York:20250915T203000
DTSTAMP:20250909T152715Z
URL:https://beaconplayers.com/events/little-women-broadway-showing/
SUMMARY:"Little Women" Broadway Showing
DESCRIPTION:MANDATORY meeting for cast and  crew... We will be watching a 
 recording of the original Broadway production of little women\, it is extr
 emely important that everyone know the show and this is a great way to sta
 rt. We will also have script distribution for the cast members between 6:0
 0 and 6:30 and the showing of the video at 6:30 promptly. Please be on tim
 e so that we can view the entire show.
CATEGORIES:Major Events
END:VEVENT
BEGIN:VTIMEZONE
TZID:America/New_York
X-LIC-LOCATION:America/New_York
BEGIN:DAYLIGHT
DTSTART:20250309T030000
TZOFFSETFROM:-0500
TZOFFSETTO:-0400
TZNAME:EDT
END:DAYLIGHT
END:VTIMEZONE
END:VCALENDAR