BEGIN:VCALENDAR
VERSION:2.0
PRODID:-//wp-events-plugin.com//7.2.3.1//EN
TZID:America/New_York
X-WR-TIMEZONE:America/New_York
BEGIN:VEVENT
UID:2518@beaconplayers.com
DTSTART;TZID=America/New_York:20250920T090000
DTEND;TZID=America/New_York:20250920T130000
DTSTAMP:20250915T024937Z
URL:https://beaconplayers.com/events/little-women-rehearsal/
SUMMARY:Little Women Rehearsal
DESCRIPTION:Called\nJo March\, Professor Bhaer\, Amy March\, Meg March\, B
 eth March\, Marmee March\, Mr. Laurence Laurie Laurence\, Aunt March\, Mr
 . John Brooke\n
CATEGORIES:Rehearsal
END:VEVENT
BEGIN:VTIMEZONE
TZID:America/New_York
X-LIC-LOCATION:America/New_York
BEGIN:DAYLIGHT
DTSTART:20250309T030000
TZOFFSETFROM:-0500
TZOFFSETTO:-0400
TZNAME:EDT
END:DAYLIGHT
END:VTIMEZONE
END:VCALENDAR