BEGIN:VCALENDAR
VERSION:2.0
PRODID:-//wp-events-plugin.com//7.2.3.1//EN
TZID:America/New_York
X-WR-TIMEZONE:America/New_York
BEGIN:VEVENT
UID:2517@beaconplayers.com
DTSTART;TZID=America/New_York:20250919T150000
DTEND;TZID=America/New_York:20250919T203000
DTSTAMP:20250919T123309Z
URL:https://beaconplayers.com/events/little-women-rehearsals-2/
SUMMARY:Little Women Rehearsals
DESCRIPTION:Called:\n3:00 - 8:30 - Jo\, Meg\, Amy\, Beth\, Marmie\, Mr. Lau
 rence\, Laurie\, Professor Bhaer\n6:30-8:30 - Ensemble
CATEGORIES:Rehearsal
END:VEVENT
BEGIN:VTIMEZONE
TZID:America/New_York
X-LIC-LOCATION:America/New_York
BEGIN:DAYLIGHT
DTSTART:20250309T030000
TZOFFSETFROM:-0500
TZOFFSETTO:-0400
TZNAME:EDT
END:DAYLIGHT
END:VTIMEZONE
END:VCALENDAR