BEGIN:VCALENDAR
VERSION:2.0
PRODID:-//wp-events-plugin.com//7.2.3.1//EN
TZID:America/New_York
X-WR-TIMEZONE:America/New_York
BEGIN:VEVENT
UID:2711@beaconplayers.com
DTSTART;TZID=America/New_York:20260213T180000
DTEND;TZID=America/New_York:20260213T210000
DTSTAMP:20260208T172145Z
URL:https://beaconplayers.com/events/love-songs-at-the-howland-performance
 /
SUMMARY:Love Songs at the Howland Performance
DESCRIPTION:\nCalled: Entire Cast - Sound Lighting - Stage Managers Please 
 bring an item for the "Dessert/Hospitality" table. We might finish sooner!
  Please spread the word.
CATEGORIES:Special Events
END:VEVENT
BEGIN:VTIMEZONE
TZID:America/New_York
X-LIC-LOCATION:America/New_York
BEGIN:STANDARD
DTSTART:20251102T010000
TZOFFSETFROM:-0400
TZOFFSETTO:-0500
TZNAME:EST
END:STANDARD
END:VTIMEZONE
END:VCALENDAR