BEGIN:VCALENDAR
VERSION:2.0
PRODID:-//wp-events-plugin.com//7.2.3.1//EN
TZID:America/New_York
X-WR-TIMEZONE:America/New_York
BEGIN:VEVENT
UID:2521@beaconplayers.com
DTSTART;TZID=America/New_York:20260113T180000
DTEND;TZID=America/New_York:20260113T203000
DTSTAMP:20260113T044735Z
URL:https://beaconplayers.com/events/mandatory-jekyll-hyde-workshop-_/
SUMMARY:Mandatory  General Meeting & Jekyll & Hyde Workshop LGI
DESCRIPTION:General Kick Off Meeting For All Members - Cast &amp\; Crew\n\n
 Music and Acting Review - ALL Auditioning MUST attend -
CATEGORIES:Major Events
END:VEVENT
BEGIN:VTIMEZONE
TZID:America/New_York
X-LIC-LOCATION:America/New_York
BEGIN:STANDARD
DTSTART:20251102T010000
TZOFFSETFROM:-0400
TZOFFSETTO:-0500
TZNAME:EST
END:STANDARD
END:VTIMEZONE
END:VCALENDAR