BEGIN:VCALENDAR
VERSION:2.0
PRODID:-//wp-events-plugin.com//7.2.3.1//EN
TZID:America/New_York
X-WR-TIMEZONE:America/New_York
BEGIN:VEVENT
UID:213@beaconplayers.com
DTSTART;TZID=America/New_York:20191105T083000
DTEND;TZID=America/New_York:20191105T084000
DTSTAMP:20191004T123905Z
URL:https://beaconplayers.com/events/on-air-q-92/
SUMMARY:On Air Q 92
DESCRIPTION:Radio Appearance  - Lindsay &amp\; Ila Publicity Chiefs - 8:30
  AM  Tune In!!
CATEGORIES:Special Events
END:VEVENT
BEGIN:VTIMEZONE
TZID:America/New_York
X-LIC-LOCATION:America/New_York
BEGIN:STANDARD
DTSTART:20191103T010000
TZOFFSETFROM:-0400
TZOFFSETTO:-0500
TZNAME:EST
END:STANDARD
END:VTIMEZONE
END:VCALENDAR