BEGIN:VCALENDAR
VERSION:2.0
PRODID:-//wp-events-plugin.com//7.2.3.1//EN
TZID:America/New_York
X-WR-TIMEZONE:America/New_York
BEGIN:VEVENT
UID:183@beaconplayers.com
DTSTART;TZID=America/New_York:20191112T170000
DTEND;TZID=America/New_York:20191112T210000
DTSTAMP:20190930T225533Z
URL:https://beaconplayers.com/events/orchestra-rehearsal-2/
SUMMARY:Orchestra Rehearsal
DESCRIPTION:Orchestra Rehearsal - On stage - Full Show - Blocking - Costume
 s - Lighting - Sound etc
CATEGORIES:Beacon Players
END:VEVENT
BEGIN:VTIMEZONE
TZID:America/New_York
X-LIC-LOCATION:America/New_York
BEGIN:STANDARD
DTSTART:20191103T010000
TZOFFSETFROM:-0400
TZOFFSETTO:-0500
TZNAME:EST
END:STANDARD
END:VTIMEZONE
END:VCALENDAR