BEGIN:VCALENDAR
VERSION:2.0
PRODID:-//wp-events-plugin.com//7.2.3.1//EN
TZID:America/New_York
X-WR-TIMEZONE:America/New_York
BEGIN:VEVENT
UID:2504@beaconplayers.com
DTSTART;TZID=America/New_York:20250425T163000
DTEND;TZID=America/New_York:20250425T220000
DTSTAMP:20250424T214439Z
URL:https://beaconplayers.com/events/performance-call-times/
SUMMARY:Performance Call Times
DESCRIPTION:Performance Call:\nCalled:\n4:00 - Hot Box Girls\n4:30 Set/Stag
 e Crew/Lighting/Sound /Props-Run Cues\, Prep Stage Set Up For Act 1\, Chec
 k Props (move Prop Table - Move items in the Theater to the back hallway -
  You know what to do\n4:30 - All Girls\n5:00 - Rest of Cast\n6:00 - Vocal 
 Warm-Up\n&nbsp\;
CATEGORIES:Special Events
END:VEVENT
BEGIN:VTIMEZONE
TZID:America/New_York
X-LIC-LOCATION:America/New_York
BEGIN:DAYLIGHT
DTSTART:20250309T030000
TZOFFSETFROM:-0500
TZOFFSETTO:-0400
TZNAME:EDT
END:DAYLIGHT
END:VTIMEZONE
END:VCALENDAR