BEGIN:VCALENDAR
VERSION:2.0
PRODID:-//wp-events-plugin.com//7.2.3.1//EN
TZID:America/New_York
X-WR-TIMEZONE:America/New_York
BEGIN:VEVENT
UID:2497@beaconplayers.com
DTSTART;TZID=America/New_York:20250422T120000
DTEND;TZID=America/New_York:20250422T210000
DTSTAMP:20250418T125535Z
URL:https://beaconplayers.com/events/pick-up-rehearsal-orchestra-run-throu
 gh/
SUMMARY:Full Tech (Cue-Cue) & Full Run Through
DESCRIPTION:This will all be reviewed on Monday\n12:00 - 3:00 Return at 5:0
 0 - Full Tech Run Through - All Stage Managers\, Lights\, Running Crew\, S
 et Crews.\n\n4:00 - Run Through With Costumes &amp\; Wigs\nCalled:\nEntire
  Cast &amp\; All Crews - Costume Crew check with Karin for your time to ar
 rive.\n\n6:00 - Downbeat\n&nbsp\;\n\n&nbsp\;
CATEGORIES:Rehearsal
END:VEVENT
BEGIN:VTIMEZONE
TZID:America/New_York
X-LIC-LOCATION:America/New_York
BEGIN:DAYLIGHT
DTSTART:20250309T030000
TZOFFSETFROM:-0500
TZOFFSETTO:-0400
TZNAME:EDT
END:DAYLIGHT
END:VTIMEZONE
END:VCALENDAR