BEGIN:VCALENDAR
VERSION:2.0
PRODID:-//wp-events-plugin.com//7.2.3.1//EN
TZID:America/New_York
X-WR-TIMEZONE:America/New_York
BEGIN:VEVENT
UID:2707@beaconplayers.com
DTSTART;TZID=America/New_York:20260206T141500
DTEND;TZID=America/New_York:20260206T150000
DTSTAMP:20260201T231137Z
URL:https://beaconplayers.com/events/prop-crew-29/
SUMMARY:Prop Crew
DESCRIPTION:All current and New Members Welcomed - Meet after school in the
  theater
CATEGORIES:Prop Crew
END:VEVENT
BEGIN:VTIMEZONE
TZID:America/New_York
X-LIC-LOCATION:America/New_York
BEGIN:STANDARD
DTSTART:20251102T010000
TZOFFSETFROM:-0400
TZOFFSETTO:-0500
TZNAME:EST
END:STANDARD
END:VTIMEZONE
END:VCALENDAR