BEGIN:VCALENDAR
VERSION:2.0
PRODID:-//wp-events-plugin.com//7.2.3.1//EN
TZID:America/New_York
X-WR-TIMEZONE:America/New_York
BEGIN:VEVENT
UID:2527@beaconplayers.com
DTSTART;TZID=America/New_York:20250916T183000
DTEND;TZID=America/New_York:20250916T203000
DTSTAMP:20250915T002105Z
URL:https://beaconplayers.com/events/rehearsal-250/
SUMMARY:Rehearsal
DESCRIPTION:Volcano Press\nCalled:\nJo March\, Meg (Clarissa\,) Laurie ( Ro
 drigo\,) Mr.Brooke ( Braxton)\n\n&nbsp\;
CATEGORIES:Rehearsal
END:VEVENT
BEGIN:VTIMEZONE
TZID:America/New_York
X-LIC-LOCATION:America/New_York
BEGIN:DAYLIGHT
DTSTART:20250309T030000
TZOFFSETFROM:-0500
TZOFFSETTO:-0400
TZNAME:EDT
END:DAYLIGHT
END:VTIMEZONE
END:VCALENDAR