BEGIN:VCALENDAR
VERSION:2.0
PRODID:-//wp-events-plugin.com//7.2.3.1//EN
TZID:America/New_York
X-WR-TIMEZONE:America/New_York
BEGIN:VEVENT
UID:2579@beaconplayers.com
DTSTART;TZID=America/New_York:20251011T090000
DTEND;TZID=America/New_York:20251011T130000
DTSTAMP:20251009T201248Z
URL:https://beaconplayers.com/events/rehearsal-259/
SUMMARY:Rehearsal  (UPDATED)
DESCRIPTION:\nBlocking - Finish Act 2\nCalled\n9:00 - 1:00 \nCalled: Entir
 e Cast  - ENSEMBLE NOT CALLED\nStage Managers Lighting and Sound \n&nbsp
 \;
CATEGORIES:Rehearsal
END:VEVENT
BEGIN:VTIMEZONE
TZID:America/New_York
X-LIC-LOCATION:America/New_York
BEGIN:DAYLIGHT
DTSTART:20250309T030000
TZOFFSETFROM:-0500
TZOFFSETTO:-0400
TZNAME:EDT
END:DAYLIGHT
END:VTIMEZONE
END:VCALENDAR