BEGIN:VCALENDAR
VERSION:2.0
PRODID:-//wp-events-plugin.com//7.2.3.1//EN
TZID:America/New_York
X-WR-TIMEZONE:America/New_York
BEGIN:VEVENT
UID:2639@beaconplayers.com
DTSTART;TZID=America/New_York:20251027T183000
DTEND;TZID=America/New_York:20251027T203000
DTSTAMP:20251027T013850Z
URL:https://beaconplayers.com/events/rehearsal-267/
SUMMARY:Rehearsal
DESCRIPTION:Act 1\nCalled: Full Cast including Those  Ensemble Members tha
 t are in the "Anna Moffat (ballroom)" dance scene\n&nbsp\;
CATEGORIES:Rehearsal
END:VEVENT
BEGIN:VTIMEZONE
TZID:America/New_York
X-LIC-LOCATION:America/New_York
BEGIN:DAYLIGHT
DTSTART:20250309T030000
TZOFFSETFROM:-0500
TZOFFSETTO:-0400
TZNAME:EDT
END:DAYLIGHT
END:VTIMEZONE
END:VCALENDAR