BEGIN:VCALENDAR
VERSION:2.0
PRODID:-//wp-events-plugin.com//7.2.3.1//EN
TZID:America/New_York
X-WR-TIMEZONE:America/New_York
BEGIN:VEVENT
UID:2654@beaconplayers.com
DTSTART;TZID=America/New_York:20251107T150000
DTEND;TZID=America/New_York:20251107T210000
DTSTAMP:20251107T163630Z
URL:https://beaconplayers.com/events/rehearsal-270/
SUMMARY:Rehearsal 3-9
DESCRIPTION:Dinner Break 5-6\nTech run-through first\, followed by dinner a
 nd then straight final run before full dress on Saturday.\nCalled After Sc
 hool - ALL PRINCIPALS\nAfter School  - Running Crew\, Stage Managers\, So
 und\, Costume.\n6:00-9:00 - ENSEMBLE\n&nbsp\;
CATEGORIES:Rehearsal
END:VEVENT
BEGIN:VTIMEZONE
TZID:America/New_York
X-LIC-LOCATION:America/New_York
BEGIN:STANDARD
DTSTART:20251102T010000
TZOFFSETFROM:-0400
TZOFFSETTO:-0500
TZNAME:EST
END:STANDARD
END:VTIMEZONE
END:VCALENDAR