BEGIN:VCALENDAR
VERSION:2.0
PRODID:-//wp-events-plugin.com//7.2.3.1//EN
TZID:America/New_York
X-WR-TIMEZONE:America/New_York
BEGIN:VEVENT
UID:2599@beaconplayers.com
DTSTART;TZID=America/New_York:20251017T183000
DTEND;TZID=America/New_York:20251017T210000
DTSTAMP:20251012T151029Z
URL:https://beaconplayers.com/events/rehearsal-cider-songs/
SUMMARY:Rehearsal/Cider & Songs
DESCRIPTION: Cider &amp\; Songs\n2:15 Officers - Set Up\n6:30 - Entire Cas
 t\n&nbsp\;
CATEGORIES:Rehearsal
END:VEVENT
BEGIN:VTIMEZONE
TZID:America/New_York
X-LIC-LOCATION:America/New_York
BEGIN:DAYLIGHT
DTSTART:20250309T030000
TZOFFSETFROM:-0500
TZOFFSETTO:-0400
TZNAME:EDT
END:DAYLIGHT
END:VTIMEZONE
END:VCALENDAR