BEGIN:VCALENDAR
VERSION:2.0
PRODID:-//wp-events-plugin.com//7.2.3.1//EN
TZID:America/New_York
X-WR-TIMEZONE:America/New_York
BEGIN:VEVENT
UID:169@beaconplayers.com
DTSTART;TZID=America/New_York:20191004T150000
DTEND;TZID=America/New_York:20191004T200000
DTSTAMP:20191003T152002Z
URL:https://beaconplayers.com/events/rehearsal-entire-cast-3/
SUMMARY:** CHANGE** Rehearsal - Entire Cast (8th grade cast excused today)
DESCRIPTION:Members can attend the Student Tailgate (eat something) after s
 chool and then meet in the theater at 3:00 for rehearsal\, we will have a 
 snack break and dismiss at 8:00.
CATEGORIES:Rehearsal
END:VEVENT
BEGIN:VTIMEZONE
TZID:America/New_York
X-LIC-LOCATION:America/New_York
BEGIN:DAYLIGHT
DTSTART:20190310T030000
TZOFFSETFROM:-0500
TZOFFSETTO:-0400
TZNAME:EDT
END:DAYLIGHT
END:VTIMEZONE
END:VCALENDAR