BEGIN:VCALENDAR
VERSION:2.0
PRODID:-//wp-events-plugin.com//7.2.3.1//EN
TZID:America/New_York
X-WR-TIMEZONE:America/New_York
BEGIN:VEVENT
UID:211@beaconplayers.com
DTSTART;TZID=America/New_York:20191012T090000
DTEND;TZID=America/New_York:20191012T150000
DTSTAMP:20191004T113808Z
URL:https://beaconplayers.com/events/rehearsal-entire-cast-7/
SUMMARY:Rehearsal - Entire Cast
DESCRIPTION:
CATEGORIES:Rehearsal
END:VEVENT
BEGIN:VTIMEZONE
TZID:America/New_York
X-LIC-LOCATION:America/New_York
BEGIN:DAYLIGHT
DTSTART:20190310T030000
TZOFFSETFROM:-0500
TZOFFSETTO:-0400
TZNAME:EDT
END:DAYLIGHT
END:VTIMEZONE
END:VCALENDAR