BEGIN:VCALENDAR
VERSION:2.0
PRODID:-//wp-events-plugin.com//7.2.3.1//EN
TZID:America/New_York
X-WR-TIMEZONE:America/New_York
BEGIN:VEVENT
UID:2611@beaconplayers.com
DTSTART;TZID=America/New_York:20251020T173000
DTEND;TZID=America/New_York:20251020T203000
DTSTAMP:20251019T203819Z
URL:https://beaconplayers.com/events/rehearsals-meetings-2/
SUMMARY:Rehearsals & Meetings
DESCRIPTION:CHANGE\n5:30 - 6:30 - VOCAL REHEARSAL\nCalled:\nSmall Umbrella 
 in the Rain\, More than I Am\n5:30-6:30 - Costume Meeting\n6:30 - 8:30 REH
 EARSAL  - Act 1\nCalled:\nCast including ensemble members in the Ballroom
  (Party Scene)\n&nbsp\;
CATEGORIES:Rehearsal
END:VEVENT
BEGIN:VTIMEZONE
TZID:America/New_York
X-LIC-LOCATION:America/New_York
BEGIN:DAYLIGHT
DTSTART:20250309T030000
TZOFFSETFROM:-0500
TZOFFSETTO:-0400
TZNAME:EDT
END:DAYLIGHT
END:VTIMEZONE
END:VCALENDAR