BEGIN:VCALENDAR
VERSION:2.0
PRODID:-//wp-events-plugin.com//7.2.3.1//EN
TZID:America/New_York
X-WR-TIMEZONE:America/New_York
BEGIN:VEVENT
UID:2612@beaconplayers.com
DTSTART;TZID=America/New_York:20251021T173000
DTEND;TZID=America/New_York:20251021T203000
DTSTAMP:20251019T161449Z
URL:https://beaconplayers.com/events/rehearsals-meetings-3/
SUMMARY:Rehearsals & Meetings
DESCRIPTION:CHANGE\n5:30 - 6:30 - VOCAL REHEARSAL\nCalled:\nFinast Dreams &
 amp\; Delighted\n5:30-6:30 - Lighting Meeting\n6:30 - 8:30 REHEARSAL  - F
 inish ACT 1 if we don't on Monday\, Act 2\nCalled:\n Full Cast\n&nbsp\;
CATEGORIES:Rehearsal
END:VEVENT
BEGIN:VTIMEZONE
TZID:America/New_York
X-LIC-LOCATION:America/New_York
BEGIN:DAYLIGHT
DTSTART:20250309T030000
TZOFFSETFROM:-0500
TZOFFSETTO:-0400
TZNAME:EDT
END:DAYLIGHT
END:VTIMEZONE
END:VCALENDAR