BEGIN:VCALENDAR
VERSION:2.0
PRODID:-//wp-events-plugin.com//7.2.3.1//EN
TZID:America/New_York
X-WR-TIMEZONE:America/New_York
BEGIN:VEVENT
UID:246@beaconplayers.com
DTSTART;TZID=America/New_York;VALUE=DATE:20191016
DTEND;TZID=America/New_York;VALUE=DATE:20191017
DTSTAMP:20191016T021406Z
URL:https://beaconplayers.com/events/rock-of-ages-t-shirt-day-2/
SUMMARY:Rock of Ages "T" Shirt Day
DESCRIPTION:PLEASE WEAR YOUR ROCK OF AGES T SHIRT ....YOU CAN BUY ONE FROM 
 MRS. LADUE
CATEGORIES:Beacon Players
END:VEVENT
BEGIN:VTIMEZONE
TZID:America/New_York
X-LIC-LOCATION:America/New_York
BEGIN:DAYLIGHT
DTSTART:20190310T030000
TZOFFSETFROM:-0500
TZOFFSETTO:-0400
TZNAME:EDT
END:DAYLIGHT
END:VTIMEZONE
END:VCALENDAR