BEGIN:VCALENDAR
VERSION:2.0
PRODID:-//wp-events-plugin.com//7.2.3.1//EN
TZID:America/New_York
X-WR-TIMEZONE:America/New_York
BEGIN:VEVENT
UID:2668@beaconplayers.com
DTSTART;TZID=America/New_York:20251103T141500
DTEND;TZID=America/New_York:20251103T170000
DTSTAMP:20251103T011059Z
URL:https://beaconplayers.com/events/running-crew-8/
SUMMARY:Running Crew
DESCRIPTION:Due to the delegation meeting of German exchange students and o
 ur students having to attend we are moving the evening rehearsal to the af
 ternoon.\n&nbsp\;\nCalled - Entire Cast &amp\; Running Crew\, Stage Manage
 rs\, Sound\, Costume
CATEGORIES:Running Crew
END:VEVENT
BEGIN:VTIMEZONE
TZID:America/New_York
X-LIC-LOCATION:America/New_York
BEGIN:STANDARD
DTSTART:20251102T010000
TZOFFSETFROM:-0400
TZOFFSETTO:-0500
TZNAME:EST
END:STANDARD
END:VTIMEZONE
END:VCALENDAR