BEGIN:VCALENDAR
VERSION:2.0
PRODID:-//wp-events-plugin.com//7.2.3.1//EN
TZID:America/New_York
X-WR-TIMEZONE:America/New_York
BEGIN:VEVENT
UID:2662@beaconplayers.com
DTSTART;TZID=America/New_York:20251107T150000
DTEND;TZID=America/New_York:20251107T180000
DTSTAMP:20251107T163414Z
URL:https://beaconplayers.com/events/set-crew-351/
SUMMARY:Running Crew
DESCRIPTION:
CATEGORIES:Running Crew
END:VEVENT
BEGIN:VTIMEZONE
TZID:America/New_York
X-LIC-LOCATION:America/New_York
BEGIN:STANDARD
DTSTART:20251102T010000
TZOFFSETFROM:-0400
TZOFFSETTO:-0500
TZNAME:EST
END:STANDARD
END:VTIMEZONE
END:VCALENDAR