BEGIN:VCALENDAR
VERSION:2.0
PRODID:-//wp-events-plugin.com//7.2.3.1//EN
TZID:America/New_York
X-WR-TIMEZONE:America/New_York
BEGIN:VEVENT
UID:2454@beaconplayers.com
DTSTART;TZID=America/New_York:20250326T180000
DTEND;TZID=America/New_York:20250326T203000
DTSTAMP:20250324T000607Z
URL:https://beaconplayers.com/events/sneak-peek-dress-gs-rehearsal/
SUMMARY:Sneak Peek Dress  & G&S Rehearsal
DESCRIPTION:6:00-8:30 - Theater - Dress Rehersal and G&amp\;D Rehearsal\nCa
 lled:\nAll Cast\nSound\, Stage Managers\, Lighting Set Up - Will review mi
 cs etc. early in the week
CATEGORIES:Rehearsal
END:VEVENT
BEGIN:VTIMEZONE
TZID:America/New_York
X-LIC-LOCATION:America/New_York
BEGIN:DAYLIGHT
DTSTART:20250309T030000
TZOFFSETFROM:-0500
TZOFFSETTO:-0400
TZNAME:EDT
END:DAYLIGHT
END:VTIMEZONE
END:VCALENDAR