BEGIN:VCALENDAR
VERSION:2.0
PRODID:-//wp-events-plugin.com//7.2.3.1//EN
TZID:America/New_York
X-WR-TIMEZONE:America/New_York
BEGIN:VEVENT
UID:2455@beaconplayers.com
DTSTART;TZID=America/New_York:20250327T173000
DTEND;TZID=America/New_York:20250327T203000
DTSTAMP:20250324T005205Z
URL:https://beaconplayers.com/events/sneak-peek-event/
SUMMARY:Sneak Peek Event
DESCRIPTION:Details will be announced as we get closer but so far:\nCall wi
 ll be 5:30 for set up\nPlease wear a Beacon Players Show shirt ( Guys &amp
 \; Dolls shirts are on sale)\nMic and mic check
CATEGORIES:Beacon Players,Major Events
END:VEVENT
BEGIN:VTIMEZONE
TZID:America/New_York
X-LIC-LOCATION:America/New_York
BEGIN:DAYLIGHT
DTSTART:20250309T030000
TZOFFSETFROM:-0500
TZOFFSETTO:-0400
TZNAME:EDT
END:DAYLIGHT
END:VTIMEZONE
END:VCALENDAR