BEGIN:VCALENDAR
VERSION:2.0
PRODID:-//wp-events-plugin.com//7.2.3.1//EN
TZID:America/New_York
X-WR-TIMEZONE:America/New_York
BEGIN:VEVENT
UID:2503@beaconplayers.com
DTSTART;TZID=America/New_York:20250424T150000
DTEND;TZID=America/New_York:20250424T220000
DTSTAMP:20250423T111505Z
URL:https://beaconplayers.com/events/spackenkill-dress-rehearsal-little-me
 rmaid/
SUMMARY:Spackenkill Dress Rehearsal Little Mermaid
DESCRIPTION:All meet at Spackenkill  high school auditorium lobby at 6:30/
 6:45 - dress rehearsal begins at 7:00 o'clock - there is no charge
CATEGORIES:Special Events
END:VEVENT
BEGIN:VTIMEZONE
TZID:America/New_York
X-LIC-LOCATION:America/New_York
BEGIN:DAYLIGHT
DTSTART:20250309T030000
TZOFFSETFROM:-0500
TZOFFSETTO:-0400
TZNAME:EDT
END:DAYLIGHT
END:VTIMEZONE
END:VCALENDAR