BEGIN:VCALENDAR
VERSION:2.0
PRODID:-//wp-events-plugin.com//7.2.3.1//EN
TZID:America/New_York
X-WR-TIMEZONE:America/New_York
BEGIN:VEVENT
UID:2590@beaconplayers.com
DTSTART;TZID=America/New_York:20251010T141500
DTEND;TZID=America/New_York:20251010T150000
DTSTAMP:20251009T200838Z
URL:https://beaconplayers.com/events/theater-workshop-how-to-i-wanted-to-i
 ncorporate-because-to-me-that-glenda-for-me-being-innovative-being-experim
 ental-and-came-through-it-really-is-pushing-the-boundaries-thank-you-the-s
 parkles/
SUMMARY:canceled
DESCRIPTION:This workshop is for everyone\, I strongly\, strongly urge\, ni
 nth graders to attend in order to grow in our organization. You have to un
 derstand certain things that will help you in that growth as a performer a
 nd a member of the Beacon Players.\nLetting go of ourselves and becoming t
 he person that we are portraying is vital to a successful performance\, ho
 w do we do that?\nHow do I create the "chemistry" between actors\nI know I
  say  "leave your inhibitions at the door\,"  but do we ? and how do we 
 accomplish that.\n
CATEGORIES:Rehearsal Cancelled
END:VEVENT
BEGIN:VTIMEZONE
TZID:America/New_York
X-LIC-LOCATION:America/New_York
BEGIN:DAYLIGHT
DTSTART:20250309T030000
TZOFFSETFROM:-0500
TZOFFSETTO:-0400
TZNAME:EDT
END:DAYLIGHT
END:VTIMEZONE
END:VCALENDAR